0.020000
0
0
-0.020000
29.870000
9.270000
